BEGIN:VCALENDAR
VERSION:2.0
PRODID:-//Bar Dog Wine - ECPv6.15.18//NONSGML v1.0//EN
CALSCALE:GREGORIAN
METHOD:PUBLISH
X-WR-CALNAME:Bar Dog Wine
X-ORIGINAL-URL:https://www.bardogwine.com
X-WR-CALDESC:Events for Bar Dog Wine
REFRESH-INTERVAL;VALUE=DURATION:PT1H
X-Robots-Tag:noindex
X-PUBLISHED-TTL:PT1H
BEGIN:VTIMEZONE
TZID:America/Toronto
BEGIN:DAYLIGHT
TZOFFSETFROM:-0500
TZOFFSETTO:-0400
TZNAME:EDT
DTSTART:20220313T070000
END:DAYLIGHT
BEGIN:STANDARD
TZOFFSETFROM:-0400
TZOFFSETTO:-0500
TZNAME:EST
DTSTART:20221106T060000
END:STANDARD
BEGIN:DAYLIGHT
TZOFFSETFROM:-0500
TZOFFSETTO:-0400
TZNAME:EDT
DTSTART:20230312T070000
END:DAYLIGHT
BEGIN:STANDARD
TZOFFSETFROM:-0400
TZOFFSETTO:-0500
TZNAME:EST
DTSTART:20231105T060000
END:STANDARD
BEGIN:DAYLIGHT
TZOFFSETFROM:-0500
TZOFFSETTO:-0400
TZNAME:EDT
DTSTART:20240310T070000
END:DAYLIGHT
BEGIN:STANDARD
TZOFFSETFROM:-0400
TZOFFSETTO:-0500
TZNAME:EST
DTSTART:20241103T060000
END:STANDARD
END:VTIMEZONE
BEGIN:VEVENT
DTSTART;TZID=America/Toronto:20230505T190000
DTEND;TZID=America/Toronto:20230505T210000
DTSTAMP:20260419T114500
CREATED:20230317T231241Z
LAST-MODIFIED:20230317T231241Z
UID:3142-1683313200-1683320400@www.bardogwine.com
SUMMARY:Fowler's Liquors - Spencerport\, NY
DESCRIPTION:
URL:https://www.bardogwine.com/event/fowlers-liquors-spencerport-ny/
LOCATION:Fowler’s Liquors\, 377 S. Union St\, Spencerport\, United States
CATEGORIES:Party
END:VEVENT
BEGIN:VEVENT
DTSTART;TZID=America/Toronto:20230505T153000
DTEND;TZID=America/Toronto:20230505T173000
DTSTAMP:20260419T114500
CREATED:20230317T231241Z
LAST-MODIFIED:20230317T231241Z
UID:3143-1683300600-1683307800@www.bardogwine.com
SUMMARY:Marketview - Rochester\, NY
DESCRIPTION:
URL:https://www.bardogwine.com/event/marketview-rochester-ny/
LOCATION:Marketview\, 1100 Jefferson Rd\, Rochester\, United States
CATEGORIES:Party
END:VEVENT
BEGIN:VEVENT
DTSTART;TZID=America/Toronto:20230504T160000
DTEND;TZID=America/Toronto:20230504T190000
DTSTAMP:20260419T114500
CREATED:20230330T192458Z
LAST-MODIFIED:20230330T192458Z
UID:3224-1683216000-1683226800@www.bardogwine.com
SUMMARY:Moyer's Corner - Syracuse\, NY
DESCRIPTION:
URL:https://www.bardogwine.com/event/moyers-corner-syracuse-ny/
LOCATION:Moyer’s Corner\, 8417 Oswego Rd\, Baldwinsville NY 13027\, Syracuse\, NY\, United States
END:VEVENT
BEGIN:VEVENT
DTSTART;TZID=America/Toronto:20230503T160000
DTEND;TZID=America/Toronto:20230503T180000
DTSTAMP:20260419T114500
CREATED:20230317T231240Z
LAST-MODIFIED:20230317T231240Z
UID:3141-1683129600-1683136800@www.bardogwine.com
SUMMARY:Purdy's Wines - Saratoga\, NY
DESCRIPTION:
URL:https://www.bardogwine.com/event/purdys-wines-saratoga-ny/
LOCATION:Purdy’s Wines\, 72 Congress St\, Saratoga\, United States
CATEGORIES:Party
END:VEVENT
BEGIN:VEVENT
DTSTART;TZID=America/Toronto:20230502T150000
DTEND;TZID=America/Toronto:20230502T170000
DTSTAMP:20260419T114500
CREATED:20230317T231240Z
LAST-MODIFIED:20230317T231240Z
UID:3140-1683039600-1683046800@www.bardogwine.com
SUMMARY:Henessy Liquors - Washingtonville\, NY
DESCRIPTION:
URL:https://www.bardogwine.com/event/henessy-liquors-washingtonville-ny/
LOCATION:Henessy Liquors\, 6 Depot St\, Washingtonville\, United States
CATEGORIES:Party
END:VEVENT
BEGIN:VEVENT
DTSTART;TZID=America/Toronto:20230430T120000
DTEND;TZID=America/Toronto:20230430T140000
DTSTAMP:20260419T114500
CREATED:20230330T192258Z
LAST-MODIFIED:20230330T192258Z
UID:3221-1682856000-1682863200@www.bardogwine.com
SUMMARY:K&W Liquors - New York
DESCRIPTION:
URL:https://www.bardogwine.com/event/kw-liquors-new-york/
LOCATION:K&W Liquors\, 163 New Hyde Park SD Franklin Square\, New York\, NY\, United States
END:VEVENT
BEGIN:VEVENT
DTSTART;TZID=America/Toronto:20230429T120000
DTEND;TZID=America/Toronto:20230429T160000
DTSTAMP:20260419T114500
CREATED:20230317T231240Z
LAST-MODIFIED:20230317T231240Z
UID:3139-1682769600-1682784000@www.bardogwine.com
SUMMARY:Stew Leonards Yonkers - Yonkers\, NY
DESCRIPTION:
URL:https://www.bardogwine.com/event/stew-leonards-yonkers-yonkers-ny/
LOCATION:Stew Leonards Yonkers\, 1 Stew Leonard Drive\, Yonkers\, United States
CATEGORIES:Party
END:VEVENT
BEGIN:VEVENT
DTSTART;TZID=America/Toronto:20230427T180000
DTEND;TZID=America/Toronto:20230427T200000
DTSTAMP:20260419T114500
CREATED:20230317T231226Z
LAST-MODIFIED:20230317T231226Z
UID:3138-1682618400-1682625600@www.bardogwine.com
SUMMARY:Buy Rite Williamstown - Williamstown\, NJ
DESCRIPTION:
URL:https://www.bardogwine.com/event/buy-rite-williamstown-williamstown-nj/
LOCATION:Buy Rite Williamstown\, 2031 North Black Horse Pike\, Williamstown\, United States
CATEGORIES:Party
END:VEVENT
BEGIN:VEVENT
DTSTART;TZID=America/Toronto:20230427T170000
DTEND;TZID=America/Toronto:20230427T200000
DTSTAMP:20260419T114500
CREATED:20230330T192126Z
LAST-MODIFIED:20230330T192126Z
UID:3218-1682614800-1682625600@www.bardogwine.com
SUMMARY:Main Street Wine Cellars - Madison
DESCRIPTION:
URL:https://www.bardogwine.com/event/main-street-wine-cellars-madison/
LOCATION:Main Street Wine Cellars\, 300 Main St\, Madison\, NJ\, United States
END:VEVENT
BEGIN:VEVENT
DTSTART;TZID=America/Toronto:20230426T150000
DTEND;TZID=America/Toronto:20230426T170000
DTSTAMP:20260419T114500
CREATED:20230317T231226Z
LAST-MODIFIED:20230317T231226Z
UID:3137-1682521200-1682528400@www.bardogwine.com
SUMMARY:Buy Rite West Depford - West Deptford\, NJ
DESCRIPTION:
URL:https://www.bardogwine.com/event/buy-rite-west-depford-west-deptford-nj/
LOCATION:Buy Rite West Depford\, 1075 Mantua Pike\, West Deptford\, United States
CATEGORIES:Party
END:VEVENT
BEGIN:VEVENT
DTSTART;TZID=America/Toronto:20230425T180000
DTEND;TZID=America/Toronto:20230425T200000
DTSTAMP:20260419T114500
CREATED:20230330T191820Z
LAST-MODIFIED:20230330T191820Z
UID:3216-1682445600-1682452800@www.bardogwine.com
SUMMARY:Buy Rite Willamstown - Willamstown\, NJ
DESCRIPTION:
URL:https://www.bardogwine.com/event/buy-rite-willamstown-willamstown-nj/
LOCATION:Buy Rite Williamstown\, 2031 North Black Horse Pike\, Williamstown\, United States
END:VEVENT
BEGIN:VEVENT
DTSTART;TZID=America/Toronto:20230423T120000
DTEND;TZID=America/Toronto:20230423T150000
DTSTAMP:20260419T114500
CREATED:20230317T231225Z
LAST-MODIFIED:20230317T231225Z
UID:3136-1682251200-1682262000@www.bardogwine.com
SUMMARY:MB Beer and Wine - Hanover\, MA
DESCRIPTION:
URL:https://www.bardogwine.com/event/mb-beer-and-wine-hanover-ma/
LOCATION:MB Beer and Wine\, 1775 Washington St Suite 305\, Hanover\, United States
CATEGORIES:Party
END:VEVENT
BEGIN:VEVENT
DTSTART;TZID=America/Toronto:20230422T160000
DTEND;TZID=America/Toronto:20230422T190000
DTSTAMP:20260419T114500
CREATED:20230317T231225Z
LAST-MODIFIED:20230317T231225Z
UID:3135-1682179200-1682190000@www.bardogwine.com
SUMMARY:Chris Gasbarro's Fine Wine and Spirits - North Attleborough\, MA
DESCRIPTION:
URL:https://www.bardogwine.com/event/chris-gasbarros-fine-wine-and-spirits-north-attleborough-ma/
LOCATION:Chris Gasbarro’s Fine Wine and Spirits\, 1212 S Washington St\, North Attleborough\, United States
CATEGORIES:Party
END:VEVENT
BEGIN:VEVENT
DTSTART;TZID=America/Toronto:20230422T120000
DTEND;TZID=America/Toronto:20230422T150000
DTSTAMP:20260419T114500
CREATED:20230317T231225Z
LAST-MODIFIED:20230317T231225Z
UID:3134-1682164800-1682175600@www.bardogwine.com
SUMMARY:Haxton's Tollgate Liquors - Warwick\, RI
DESCRIPTION:
URL:https://www.bardogwine.com/event/haxtons-tollgate-liquors-warwick-ri/
LOCATION:Haxton’s Tollgate Liquors\, 1123 Bald Hill Rd\, Warwick\, United States
CATEGORIES:Party
END:VEVENT
BEGIN:VEVENT
DTSTART;TZID=America/Toronto:20230421T150000
DTEND;TZID=America/Toronto:20230421T180000
DTSTAMP:20260419T114500
CREATED:20230317T231211Z
LAST-MODIFIED:20230403T180736Z
UID:3133-1682089200-1682100000@www.bardogwine.com
SUMMARY:Liquors 44 - Springfield\, MA
DESCRIPTION:
URL:https://www.bardogwine.com/event/liquors-44-springfield-ma/
LOCATION:Liquors 44\, 1522 Boston Rd\, Springfield\, United States
CATEGORIES:Party
END:VEVENT
BEGIN:VEVENT
DTSTART;TZID=America/Toronto:20230420T170000
DTEND;TZID=America/Toronto:20230420T193000
DTSTAMP:20260419T114500
CREATED:20230417T172311Z
LAST-MODIFIED:20230417T172311Z
UID:3242-1682010000-1682019000@www.bardogwine.com
SUMMARY:Harbor Point - Stamford\, CT
DESCRIPTION:
URL:https://www.bardogwine.com/event/harbor-point-stamford-ct/
LOCATION:Harbor Point\, 130 Washington Blvd\, Stamford\, CT\, United States
END:VEVENT
BEGIN:VEVENT
DTSTART;TZID=America/Toronto:20230416T130000
DTEND;TZID=America/Toronto:20230416T160000
DTSTAMP:20260419T114500
CREATED:20230317T231211Z
LAST-MODIFIED:20230317T231211Z
UID:3132-1681650000-1681660800@www.bardogwine.com
SUMMARY:Kroger Store #524 - Chester\, VA
DESCRIPTION:
URL:https://www.bardogwine.com/event/kroger-store-524-chester-va/
LOCATION:Kroger Store #524\, 10800 Iron Bridge Road\, Chester\, United States
CATEGORIES:Party
END:VEVENT
BEGIN:VEVENT
DTSTART;TZID=America/Toronto:20230415T130000
DTEND;TZID=America/Toronto:20230415T160000
DTSTAMP:20260419T114500
CREATED:20230317T231210Z
LAST-MODIFIED:20230317T231210Z
UID:3131-1681563600-1681574400@www.bardogwine.com
SUMMARY:Kroger Store #515 - Mechanicville\, VA
DESCRIPTION:
URL:https://www.bardogwine.com/event/kroger-store-515-mechanicville-va/
LOCATION:Kroger Store #515\, 9351 Atlee Rd\, Mechanicville\, United States
CATEGORIES:Party
END:VEVENT
BEGIN:VEVENT
DTSTART;TZID=America/Toronto:20230414T150000
DTEND;TZID=America/Toronto:20230414T180000
DTSTAMP:20260419T114500
CREATED:20230317T231210Z
LAST-MODIFIED:20230317T231210Z
UID:3130-1681484400-1681495200@www.bardogwine.com
SUMMARY:Kroger  Store #517 - Henrico\, VA
DESCRIPTION:
URL:https://www.bardogwine.com/event/kroger-store-517-henrico-va/
LOCATION:Kroger  Store #517\, 11895 W Broad Street\, Henrico\, United States
CATEGORIES:Party
END:VEVENT
BEGIN:VEVENT
DTSTART;TZID=America/Toronto:20230413T150000
DTEND;TZID=America/Toronto:20230413T180000
DTSTAMP:20260419T114500
CREATED:20230317T231210Z
LAST-MODIFIED:20230317T231210Z
UID:3129-1681398000-1681408800@www.bardogwine.com
SUMMARY:Kroger Store #512 - Midlothian\, VA
DESCRIPTION:
URL:https://www.bardogwine.com/event/kroger-store-512-midlothian-va/
LOCATION:Kroger Store #512\, 13201 Rittenhouse Drive\, Midlothian\, United States
CATEGORIES:Party
END:VEVENT
BEGIN:VEVENT
DTSTART;TZID=America/Toronto:20230408T120000
DTEND;TZID=America/Toronto:20230408T160000
DTSTAMP:20260419T114501
CREATED:20230325T002150Z
LAST-MODIFIED:20230325T002150Z
UID:3198-1680955200-1680969600@www.bardogwine.com
SUMMARY:Lowes Foods - Southport\, NC
DESCRIPTION:
URL:https://www.bardogwine.com/event/lowes-foods-southport-nc/
LOCATION:Lowes Foods #273\, 5011 Southport Crossing Way\, Southport\, United States
END:VEVENT
BEGIN:VEVENT
DTSTART;TZID=America/Toronto:20230407T140000
DTEND;TZID=America/Toronto:20230407T180000
DTSTAMP:20260419T114501
CREATED:20230325T001926Z
LAST-MODIFIED:20230325T002037Z
UID:3196-1680876000-1680890400@www.bardogwine.com
SUMMARY:Lowes Foods - Bolivia\, NC
DESCRIPTION:
URL:https://www.bardogwine.com/event/lowes-foods-bolivia-nc/
LOCATION:Lowes Foods #235\, 2829 Midway Rd SE\, Bolivia\, United States
END:VEVENT
BEGIN:VEVENT
DTSTART;TZID=America/Toronto:20230401T110000
DTEND;TZID=America/Toronto:20230401T150000
DTSTAMP:20260419T114501
CREATED:20230317T231155Z
LAST-MODIFIED:20230317T231155Z
UID:3126-1680346800-1680361200@www.bardogwine.com
SUMMARY:Pet Palooza Event - Charolette\, NC
DESCRIPTION:
URL:https://www.bardogwine.com/event/pet-palooza-event-charolette-nc/
LOCATION:Pet Palooza Event\, 1348 Parker Drive\, Charolette\, United States
CATEGORIES:Party
END:VEVENT
BEGIN:VEVENT
DTSTART;TZID=America/Toronto:20230326T140000
DTEND;TZID=America/Toronto:20230326T170000
DTSTAMP:20260419T114501
CREATED:20230317T231155Z
LAST-MODIFIED:20230317T231155Z
UID:3125-1679839200-1679850000@www.bardogwine.com
SUMMARY:Jake's Of Columbia - Columbia\, SC
DESCRIPTION:
URL:https://www.bardogwine.com/event/jakes-of-columbia-columbia-sc/
LOCATION:Jake’s Of Columbia\, 2112 Devine St\, Columbia\, United States
CATEGORIES:Party
END:VEVENT
BEGIN:VEVENT
DTSTART;TZID=America/Toronto:20230325T110000
DTEND;TZID=America/Toronto:20230325T190000
DTSTAMP:20260419T114501
CREATED:20230317T231154Z
LAST-MODIFIED:20230317T231154Z
UID:3124-1679742000-1679770800@www.bardogwine.com
SUMMARY:Woofstock - Hanahan\, SC
DESCRIPTION:
URL:https://www.bardogwine.com/event/woofstock-hanahan-sc/
LOCATION:Woofstock\, Hanahan Amphitheater 3100 Mabeline Rd\, Hanahan\, United States
CATEGORIES:Party
END:VEVENT
BEGIN:VEVENT
DTSTART;TZID=America/Toronto:20230323T150000
DTEND;TZID=America/Toronto:20230323T180000
DTSTAMP:20260419T114501
CREATED:20230317T231152Z
LAST-MODIFIED:20230317T231152Z
UID:3123-1679583600-1679594400@www.bardogwine.com
SUMMARY:Kroger D30 703 - Bluffton\, SC
DESCRIPTION:
URL:https://www.bardogwine.com/event/kroger-d30-703-bluffton-sc/
LOCATION:Kroger D30 703\, 27 Discovery Dr.\, Bluffton\, United States
CATEGORIES:Party
END:VEVENT
BEGIN:VEVENT
DTSTART;TZID=America/Toronto:20230316T140000
DTEND;TZID=America/Toronto:20230316T190000
DTSTAMP:20260419T114501
CREATED:20230317T231152Z
LAST-MODIFIED:20230317T231152Z
UID:3122-1678975200-1678993200@www.bardogwine.com
SUMMARY:Luekens - Dunedin\, FL
DESCRIPTION:
URL:https://www.bardogwine.com/event/luekens-dunedin-fl/
LOCATION:Luekens\, 1410 Main St.\, Dunedin\, United States
CATEGORIES:Party
END:VEVENT
BEGIN:VEVENT
DTSTART;TZID=America/Toronto:20230315T150000
DTEND;TZID=America/Toronto:20230315T210000
DTSTAMP:20260419T114501
CREATED:20230317T231152Z
LAST-MODIFIED:20230317T231152Z
UID:3121-1678892400-1678914000@www.bardogwine.com
SUMMARY:Kanine Social - Jacksonville\, FL
DESCRIPTION:
URL:https://www.bardogwine.com/event/kanine-social-jacksonville-fl/
LOCATION:Kanine Social\, 580 College St.\, Jacksonville\, United States
CATEGORIES:Party
END:VEVENT
BEGIN:VEVENT
DTSTART;TZID=America/Toronto:20230314T120000
DTEND;TZID=America/Toronto:20230314T170000
DTSTAMP:20260419T114501
CREATED:20230317T231151Z
LAST-MODIFIED:20230317T231151Z
UID:3120-1678795200-1678813200@www.bardogwine.com
SUMMARY:Nexcom Event - Military - 30cs Display - West Pensacola\, FL
DESCRIPTION:
URL:https://www.bardogwine.com/event/nexcom-event-military-30cs-display-west-pensacola-fl/
LOCATION:Nexcom Event – Military – 30cs Display\, 5600 US-98\, West Pensacola\, United States
CATEGORIES:Party
END:VEVENT
BEGIN:VEVENT
DTSTART;TZID=America/Toronto:20230313T140000
DTEND;TZID=America/Toronto:20230313T170000
DTSTAMP:20260419T114501
CREATED:20230317T231151Z
LAST-MODIFIED:20230317T231151Z
UID:3119-1678716000-1678726800@www.bardogwine.com
SUMMARY:Grocery Outlet Store #7705 - Panama City\, FL
DESCRIPTION:
URL:https://www.bardogwine.com/event/grocery-outlet-store-7705-panama-city-fl/
LOCATION:Grocery Outlet Store #7705\, 2901 US-98\, Panama City\, United States
CATEGORIES:Party
END:VEVENT
END:VCALENDAR