BEGIN:VCALENDAR
VERSION:2.0
PRODID:-//Bar Dog Wine - ECPv6.15.18//NONSGML v1.0//EN
CALSCALE:GREGORIAN
METHOD:PUBLISH
X-ORIGINAL-URL:https://www.bardogwine.com
X-WR-CALDESC:Events for Bar Dog Wine
REFRESH-INTERVAL;VALUE=DURATION:PT1H
X-Robots-Tag:noindex
X-PUBLISHED-TTL:PT1H
BEGIN:VTIMEZONE
TZID:America/Toronto
BEGIN:DAYLIGHT
TZOFFSETFROM:-0500
TZOFFSETTO:-0400
TZNAME:EDT
DTSTART:20220313T070000
END:DAYLIGHT
BEGIN:STANDARD
TZOFFSETFROM:-0400
TZOFFSETTO:-0500
TZNAME:EST
DTSTART:20221106T060000
END:STANDARD
BEGIN:DAYLIGHT
TZOFFSETFROM:-0500
TZOFFSETTO:-0400
TZNAME:EDT
DTSTART:20230312T070000
END:DAYLIGHT
BEGIN:STANDARD
TZOFFSETFROM:-0400
TZOFFSETTO:-0500
TZNAME:EST
DTSTART:20231105T060000
END:STANDARD
BEGIN:DAYLIGHT
TZOFFSETFROM:-0500
TZOFFSETTO:-0400
TZNAME:EDT
DTSTART:20240310T070000
END:DAYLIGHT
BEGIN:STANDARD
TZOFFSETFROM:-0400
TZOFFSETTO:-0500
TZNAME:EST
DTSTART:20241103T060000
END:STANDARD
END:VTIMEZONE
BEGIN:VEVENT
DTSTART;TZID=America/Toronto:20230528T100000
DTEND;TZID=America/Toronto:20230528T170000
DTSTAMP:20260419T092442
CREATED:20230317T231452Z
LAST-MODIFIED:20230317T231452Z
UID:3164-1685268000-1685293200@www.bardogwine.com
SUMMARY:Frankenmuth - Dog Bowl\, MI
DESCRIPTION:
URL:https://www.bardogwine.com/event/frankenmuth-dog-bowl-mi-2/
LOCATION:Frankenmuth\, 925 S. Main St\, Dog Bowl\, United States
CATEGORIES:Party
END:VEVENT
BEGIN:VEVENT
DTSTART;TZID=America/Toronto:20230527T100000
DTEND;TZID=America/Toronto:20230527T170000
DTSTAMP:20260419T092442
CREATED:20230317T231341Z
LAST-MODIFIED:20230317T231341Z
UID:3163-1685181600-1685206800@www.bardogwine.com
SUMMARY:Frankenmuth - Dog Bowl\, MI
DESCRIPTION:
URL:https://www.bardogwine.com/event/frankenmuth-dog-bowl-mi/
LOCATION:Frankenmuth\, 925 S. Main St\, Dog Bowl\, United States
CATEGORIES:Party
END:VEVENT
BEGIN:VEVENT
DTSTART;TZID=America/Toronto:20230525T110000
DTEND;TZID=America/Toronto:20230525T130000
DTSTAMP:20260419T092442
CREATED:20230317T231341Z
LAST-MODIFIED:20230317T231341Z
UID:3162-1685012400-1685019600@www.bardogwine.com
SUMMARY:Meijer #253 - East Lansing\, MI
DESCRIPTION:
URL:https://www.bardogwine.com/event/meijer-253-east-lansing-mi/
LOCATION:Meijer #253\, 7157 E. Saginaw St\, East Lansing\, United States
CATEGORIES:Party
END:VEVENT
BEGIN:VEVENT
DTSTART;TZID=America/Toronto:20230524T160000
DTEND;TZID=America/Toronto:20230524T180000
DTSTAMP:20260419T092442
CREATED:20230317T231340Z
LAST-MODIFIED:20230317T231340Z
UID:3161-1684944000-1684951200@www.bardogwine.com
SUMMARY:Meijer #50 - Grand Rapids\, MI
DESCRIPTION:
URL:https://www.bardogwine.com/event/meijer-50-grand-rapids-mi/
LOCATION:Meijer #50\, 5531 28th St. SE\, Grand Rapids\, United States
CATEGORIES:Party
END:VEVENT
BEGIN:VEVENT
DTSTART;TZID=America/Toronto:20230524T120000
DTEND;TZID=America/Toronto:20230524T140000
DTSTAMP:20260419T092442
CREATED:20230317T231340Z
LAST-MODIFIED:20230317T231340Z
UID:3160-1684929600-1684936800@www.bardogwine.com
SUMMARY:Meijer #158 - Grand Rapids\, MI
DESCRIPTION:
URL:https://www.bardogwine.com/event/meijer-158-grand-rapids-mi/
LOCATION:Meijer #158\, 1997 E. Beltline Ave NE\, Grand Rapids\, United States
CATEGORIES:Party
END:VEVENT
BEGIN:VEVENT
DTSTART;TZID=America/Toronto:20230523T160000
DTEND;TZID=America/Toronto:20230523T180000
DTSTAMP:20260419T092442
CREATED:20230519T223420Z
LAST-MODIFIED:20230519T223420Z
UID:3292-1684857600-1684864800@www.bardogwine.com
SUMMARY:Busch's - Detroit\, MI
DESCRIPTION:
URL:https://www.bardogwine.com/event/buschs-detroit-mi/
LOCATION:Busch’s\, 22385 Pontiac Trail\, Detroit\, MI\, United States
END:VEVENT
BEGIN:VEVENT
DTSTART;TZID=America/Toronto:20230523T130000
DTEND;TZID=America/Toronto:20230523T150000
DTSTAMP:20260419T092442
CREATED:20230317T231340Z
LAST-MODIFIED:20230317T231340Z
UID:3159-1684846800-1684854000@www.bardogwine.com
SUMMARY:Total Wine & More - Novi\, MI
DESCRIPTION:
URL:https://www.bardogwine.com/event/total-wine-more-novi-mi/
LOCATION:Total Wine & More\, 21071 Haggerty Rd\, Novi\, United States
CATEGORIES:Party
END:VEVENT
BEGIN:VEVENT
DTSTART;TZID=America/Toronto:20230522T160000
DTEND;TZID=America/Toronto:20230522T180000
DTSTAMP:20260419T092442
CREATED:20230317T231326Z
LAST-MODIFIED:20230317T231326Z
UID:3158-1684771200-1684778400@www.bardogwine.com
SUMMARY:Kroger #638 - Brighton\, MI
DESCRIPTION:
URL:https://www.bardogwine.com/event/kroger-638-brighton-mi/
LOCATION:Kroger #638\, 9968 E. Grand River\, Brighton\, United States
CATEGORIES:Party
END:VEVENT
BEGIN:VEVENT
DTSTART;TZID=America/Toronto:20230522T120000
DTEND;TZID=America/Toronto:20230522T140000
DTSTAMP:20260419T092442
CREATED:20230317T231326Z
LAST-MODIFIED:20230317T231326Z
UID:3157-1684756800-1684764000@www.bardogwine.com
SUMMARY:Kroger #688 - Ann Arbor\, MI
DESCRIPTION:
URL:https://www.bardogwine.com/event/kroger-688-ann-arbor-mi/
LOCATION:Kroger #688\, 400 S Maple Rd\, Ann Arbor\, United States
CATEGORIES:Party
END:VEVENT
BEGIN:VEVENT
DTSTART;TZID=America/Toronto:20230521T110000
DTEND;TZID=America/Toronto:20230521T160000
DTSTAMP:20260419T092442
CREATED:20230519T222806Z
LAST-MODIFIED:20230519T222806Z
UID:3284-1684666800-1684684800@www.bardogwine.com
SUMMARY:Bark 'n the Park @ Jimmy Johns Stadium - Utica\, MI
DESCRIPTION:
URL:https://www.bardogwine.com/event/bark-n-the-park-jimmy-johns-stadium-utica-mi-2/
LOCATION:Bark ‘n the Park @ Jimmy Johns Stadium\, 7171 Auburn Rd\, Utica\, United States
END:VEVENT
BEGIN:VEVENT
DTSTART;TZID=America/Toronto:20230520T160000
DTEND;TZID=America/Toronto:20230520T180000
DTSTAMP:20260419T092442
CREATED:20230317T231325Z
LAST-MODIFIED:20230317T231325Z
UID:3155-1684598400-1684605600@www.bardogwine.com
SUMMARY:Meijer #308  4-6 - Avon\, OH
DESCRIPTION:
URL:https://www.bardogwine.com/event/meijer-308-4-6-avon-oh/
LOCATION:Meijer #308  4-6\, 1901 Nagel Rd\, Avon\, United States
CATEGORIES:Party
END:VEVENT
BEGIN:VEVENT
DTSTART;TZID=America/Toronto:20230520T120000
DTEND;TZID=America/Toronto:20230520T140000
DTSTAMP:20260419T092442
CREATED:20230520T001619Z
LAST-MODIFIED:20230520T001844Z
UID:3301-1684584000-1684591200@www.bardogwine.com
SUMMARY:Giant Eagle-Market District - Cuyahoga Falls\, OH
DESCRIPTION:
URL:https://www.bardogwine.com/event/giant-eagle-market/
LOCATION:ON
END:VEVENT
BEGIN:VEVENT
DTSTART;TZID=America/Toronto:20230520T093000
DTEND;TZID=America/Toronto:20230520T110000
DTSTAMP:20260419T092442
CREATED:20230519T222315Z
LAST-MODIFIED:20230519T222315Z
UID:3276-1684575000-1684580400@www.bardogwine.com
SUMMARY:Buehler's Jackson - Canton\, OH
DESCRIPTION:
URL:https://www.bardogwine.com/event/buehlers-jackson-canton-oh/
LOCATION:Buehler’s Jackson\, 7138 Fulton Dr. NW\, Canton\, OH\, United States
END:VEVENT
BEGIN:VEVENT
DTSTART;TZID=America/Toronto:20230519T160000
DTEND;TZID=America/Toronto:20230519T180000
DTSTAMP:20260419T092442
CREATED:20230317T231325Z
LAST-MODIFIED:20230317T231325Z
UID:3154-1684512000-1684519200@www.bardogwine.com
SUMMARY:Meijer #309 - Mentor\, OH
DESCRIPTION:
URL:https://www.bardogwine.com/event/meijer-309-mentor-oh/
LOCATION:Meijer #309\, 9200 Mentor Ave\, Mentor\, United States
CATEGORIES:Party
END:VEVENT
BEGIN:VEVENT
DTSTART;TZID=America/Toronto:20230519T100000
DTEND;TZID=America/Toronto:20230519T120000
DTSTAMP:20260419T092442
CREATED:20230317T231311Z
LAST-MODIFIED:20230317T231311Z
UID:3153-1684490400-1684497600@www.bardogwine.com
SUMMARY:Meijer #307 - Stow\, OH
DESCRIPTION:
URL:https://www.bardogwine.com/event/meijer-307-stow-oh/
LOCATION:Meijer #307\, 4303 Kent Rd\, Stow\, United States
CATEGORIES:Party
END:VEVENT
BEGIN:VEVENT
DTSTART;TZID=America/Toronto:20230518T160000
DTEND;TZID=America/Toronto:20230518T180000
DTSTAMP:20260419T092442
CREATED:20230317T231311Z
LAST-MODIFIED:20230317T231311Z
UID:3152-1684425600-1684432800@www.bardogwine.com
SUMMARY:Kroger #581 - Dublin\, OH
DESCRIPTION:
URL:https://www.bardogwine.com/event/kroger-581-dublin-oh/
LOCATION:Kroger #581\, 7625 Sawmille Rd\, Dublin\, United States
CATEGORIES:Party
END:VEVENT
BEGIN:VEVENT
DTSTART;TZID=America/Toronto:20230518T120000
DTEND;TZID=America/Toronto:20230518T140000
DTSTAMP:20260419T092442
CREATED:20230317T231310Z
LAST-MODIFIED:20230317T231310Z
UID:3151-1684411200-1684418400@www.bardogwine.com
SUMMARY:Kroger #924 - Columbus\, OH
DESCRIPTION:
URL:https://www.bardogwine.com/event/kroger-924-columbus-oh/
LOCATION:Kroger #924\, 1375 Chambers Rd\, Columbus\, United States
CATEGORIES:Party
END:VEVENT
BEGIN:VEVENT
DTSTART;TZID=America/Toronto:20230517T160000
DTEND;TZID=America/Toronto:20230517T180000
DTSTAMP:20260419T092442
CREATED:20230317T231310Z
LAST-MODIFIED:20230317T231310Z
UID:3150-1684339200-1684346400@www.bardogwine.com
SUMMARY:Meijer #181 - Westerville\, OH
DESCRIPTION:
URL:https://www.bardogwine.com/event/meijer-181-westerville-oh/
LOCATION:Meijer #181\, 100 Polaris Parkway\, Westerville\, United States
CATEGORIES:Party
END:VEVENT
BEGIN:VEVENT
DTSTART;TZID=America/Toronto:20230517T120000
DTEND;TZID=America/Toronto:20230517T140000
DTSTAMP:20260419T092442
CREATED:20230317T231310Z
LAST-MODIFIED:20230317T231310Z
UID:3149-1684324800-1684332000@www.bardogwine.com
SUMMARY:Meijer #143 - Lewis Center\, OH
DESCRIPTION:
URL:https://www.bardogwine.com/event/meijer-143-lewis-center-oh/
LOCATION:Meijer #143\, 8700 Columbus Pike\, Lewis Center\, United States
CATEGORIES:Party
END:VEVENT
BEGIN:VEVENT
DTSTART;TZID=America/Toronto:20230516T160000
DTEND;TZID=America/Toronto:20230516T180000
DTSTAMP:20260419T092442
CREATED:20230317T231256Z
LAST-MODIFIED:20230317T231256Z
UID:3148-1684252800-1684260000@www.bardogwine.com
SUMMARY:Jungle Jim's - Cincinnati\, OH
DESCRIPTION:
URL:https://www.bardogwine.com/event/jungle-jims-cincinnati-oh/
LOCATION:Jungle Jim’s\, 4450 Eastgate S Dr\, Cincinnati\, United States
CATEGORIES:Party
END:VEVENT
BEGIN:VEVENT
DTSTART;TZID=America/Toronto:20230516T120000
DTEND;TZID=America/Toronto:20230516T140000
DTSTAMP:20260419T092442
CREATED:20230317T231256Z
LAST-MODIFIED:20230317T231256Z
UID:3147-1684238400-1684245600@www.bardogwine.com
SUMMARY:Kroger #915 - Cincinnati\, OH
DESCRIPTION:
URL:https://www.bardogwine.com/event/kroger-915-cincinnati-oh/
LOCATION:Kroger #915\, 7580 Beechmont Ave\, Cincinnati\, United States
CATEGORIES:Party
END:VEVENT
BEGIN:VEVENT
DTSTART;TZID=America/Toronto:20230515T160000
DTEND;TZID=America/Toronto:20230515T180000
DTSTAMP:20260419T092442
CREATED:20230317T231255Z
LAST-MODIFIED:20230317T231255Z
UID:3146-1684166400-1684173600@www.bardogwine.com
SUMMARY:Kroger #448 - Mason\, OH
DESCRIPTION:
URL:https://www.bardogwine.com/event/kroger-448-mason-oh/
LOCATION:Kroger #448\, 5100 Terra Firma Dr\, Mason\, United States
CATEGORIES:Party
END:VEVENT
BEGIN:VEVENT
DTSTART;TZID=America/Toronto:20230515T120000
DTEND;TZID=America/Toronto:20230515T140000
DTSTAMP:20260419T092442
CREATED:20230317T231255Z
LAST-MODIFIED:20230317T231255Z
UID:3145-1684152000-1684159200@www.bardogwine.com
SUMMARY:Kroger #435 - Guinea Loveland\, OH
DESCRIPTION:
URL:https://www.bardogwine.com/event/kroger-435-guinea-loveland-oh/
LOCATION:Kroger #435\, 6388 Branch Hill\, Guinea Loveland\, United States
CATEGORIES:Party
END:VEVENT
BEGIN:VEVENT
DTSTART;TZID=America/Toronto:20230506T120000
DTEND;TZID=America/Toronto:20230506T160000
DTSTAMP:20260419T092442
CREATED:20230317T231255Z
LAST-MODIFIED:20230330T192706Z
UID:3144-1683374400-1683388800@www.bardogwine.com
SUMMARY:Premier Wines - Orachard Park\, NY
DESCRIPTION:
URL:https://www.bardogwine.com/event/premier-wines-orachard-park-ny/
LOCATION:Premier Wines\, 3410 Amelia Drive\, Orachard Park\, United States
CATEGORIES:Party
END:VEVENT
BEGIN:VEVENT
DTSTART;TZID=America/Toronto:20230505T190000
DTEND;TZID=America/Toronto:20230505T210000
DTSTAMP:20260419T092442
CREATED:20230317T231241Z
LAST-MODIFIED:20230317T231241Z
UID:3142-1683313200-1683320400@www.bardogwine.com
SUMMARY:Fowler's Liquors - Spencerport\, NY
DESCRIPTION:
URL:https://www.bardogwine.com/event/fowlers-liquors-spencerport-ny/
LOCATION:Fowler’s Liquors\, 377 S. Union St\, Spencerport\, United States
CATEGORIES:Party
END:VEVENT
BEGIN:VEVENT
DTSTART;TZID=America/Toronto:20230505T153000
DTEND;TZID=America/Toronto:20230505T173000
DTSTAMP:20260419T092442
CREATED:20230317T231241Z
LAST-MODIFIED:20230317T231241Z
UID:3143-1683300600-1683307800@www.bardogwine.com
SUMMARY:Marketview - Rochester\, NY
DESCRIPTION:
URL:https://www.bardogwine.com/event/marketview-rochester-ny/
LOCATION:Marketview\, 1100 Jefferson Rd\, Rochester\, United States
CATEGORIES:Party
END:VEVENT
BEGIN:VEVENT
DTSTART;TZID=America/Toronto:20230504T160000
DTEND;TZID=America/Toronto:20230504T190000
DTSTAMP:20260419T092442
CREATED:20230330T192458Z
LAST-MODIFIED:20230330T192458Z
UID:3224-1683216000-1683226800@www.bardogwine.com
SUMMARY:Moyer's Corner - Syracuse\, NY
DESCRIPTION:
URL:https://www.bardogwine.com/event/moyers-corner-syracuse-ny/
LOCATION:Moyer’s Corner\, 8417 Oswego Rd\, Baldwinsville NY 13027\, Syracuse\, NY\, United States
END:VEVENT
BEGIN:VEVENT
DTSTART;TZID=America/Toronto:20230503T160000
DTEND;TZID=America/Toronto:20230503T180000
DTSTAMP:20260419T092442
CREATED:20230317T231240Z
LAST-MODIFIED:20230317T231240Z
UID:3141-1683129600-1683136800@www.bardogwine.com
SUMMARY:Purdy's Wines - Saratoga\, NY
DESCRIPTION:
URL:https://www.bardogwine.com/event/purdys-wines-saratoga-ny/
LOCATION:Purdy’s Wines\, 72 Congress St\, Saratoga\, United States
CATEGORIES:Party
END:VEVENT
BEGIN:VEVENT
DTSTART;TZID=America/Toronto:20230502T150000
DTEND;TZID=America/Toronto:20230502T170000
DTSTAMP:20260419T092442
CREATED:20230317T231240Z
LAST-MODIFIED:20230317T231240Z
UID:3140-1683039600-1683046800@www.bardogwine.com
SUMMARY:Henessy Liquors - Washingtonville\, NY
DESCRIPTION:
URL:https://www.bardogwine.com/event/henessy-liquors-washingtonville-ny/
LOCATION:Henessy Liquors\, 6 Depot St\, Washingtonville\, United States
CATEGORIES:Party
END:VEVENT
BEGIN:VEVENT
DTSTART;TZID=America/Toronto:20230430T120000
DTEND;TZID=America/Toronto:20230430T140000
DTSTAMP:20260419T092442
CREATED:20230330T192258Z
LAST-MODIFIED:20230330T192258Z
UID:3221-1682856000-1682863200@www.bardogwine.com
SUMMARY:K&W Liquors - New York
DESCRIPTION:
URL:https://www.bardogwine.com/event/kw-liquors-new-york/
LOCATION:K&W Liquors\, 163 New Hyde Park SD Franklin Square\, New York\, NY\, United States
END:VEVENT
END:VCALENDAR